BEGIN:VCALENDAR
VERSION:2.0
PRODID:-//Midwest Indigenous Immersion Network (MIIN) - ECPv6.15.20//NONSGML v1.0//EN
CALSCALE:GREGORIAN
METHOD:PUBLISH
X-ORIGINAL-URL:https://www.miinojibwe.org
X-WR-CALDESC:Events for Midwest Indigenous Immersion Network (MIIN)
REFRESH-INTERVAL;VALUE=DURATION:PT1H
X-Robots-Tag:noindex
X-PUBLISHED-TTL:PT1H
BEGIN:VTIMEZONE
TZID:UTC
BEGIN:STANDARD
TZOFFSETFROM:+0000
TZOFFSETTO:+0000
TZNAME:UTC
DTSTART:20220101T000000
END:STANDARD
END:VTIMEZONE
BEGIN:VTIMEZONE
TZID:America/Chicago
BEGIN:DAYLIGHT
TZOFFSETFROM:-0600
TZOFFSETTO:-0500
TZNAME:CDT
DTSTART:20220313T080000
END:DAYLIGHT
BEGIN:STANDARD
TZOFFSETFROM:-0500
TZOFFSETTO:-0600
TZNAME:CST
DTSTART:20221106T070000
END:STANDARD
BEGIN:DAYLIGHT
TZOFFSETFROM:-0600
TZOFFSETTO:-0500
TZNAME:CDT
DTSTART:20230312T080000
END:DAYLIGHT
BEGIN:STANDARD
TZOFFSETFROM:-0500
TZOFFSETTO:-0600
TZNAME:CST
DTSTART:20231105T070000
END:STANDARD
BEGIN:DAYLIGHT
TZOFFSETFROM:-0600
TZOFFSETTO:-0500
TZNAME:CDT
DTSTART:20240310T080000
END:DAYLIGHT
BEGIN:STANDARD
TZOFFSETFROM:-0500
TZOFFSETTO:-0600
TZNAME:CST
DTSTART:20241103T070000
END:STANDARD
BEGIN:DAYLIGHT
TZOFFSETFROM:-0600
TZOFFSETTO:-0500
TZNAME:CDT
DTSTART:20250309T080000
END:DAYLIGHT
BEGIN:STANDARD
TZOFFSETFROM:-0500
TZOFFSETTO:-0600
TZNAME:CST
DTSTART:20251102T070000
END:STANDARD
END:VTIMEZONE
BEGIN:VEVENT
DTSTART;TZID=UTC:20240319T180000
DTEND;TZID=UTC:20240319T200000
DTSTAMP:20260422T214847
CREATED:20240216T223641Z
LAST-MODIFIED:20240319T153232Z
UID:3012-1710871200-1710878400@www.miinojibwe.org
SUMMARY:First Language Speaker Meeting ~ Zhaawanikwe
DESCRIPTION:
URL:https://www.miinojibwe.org/event/first-language-speaker-meeting-zhaawanikwe-3/
LOCATION:Online\, United States
END:VEVENT
BEGIN:VEVENT
DTSTART;TZID=UTC:20240313T153000
DTEND;TZID=UTC:20240313T163000
DTSTAMP:20260422T214847
CREATED:20240101T185043Z
LAST-MODIFIED:20240101T185043Z
UID:2890-1710343800-1710347400@www.miinojibwe.org
SUMMARY:Professional Learning Community Meeting
DESCRIPTION:
URL:https://www.miinojibwe.org/event/professional-learning-community-meeting-25/
LOCATION:Online\, United States
END:VEVENT
BEGIN:VEVENT
DTSTART;TZID=UTC:20240312T160000
DTEND;TZID=UTC:20240312T180000
DTSTAMP:20260422T214847
CREATED:20240216T223433Z
LAST-MODIFIED:20240216T223433Z
UID:3010-1710259200-1710266400@www.miinojibwe.org
SUMMARY:First Language Speaker Meeting ~ Ningaabii'anook
DESCRIPTION:
URL:https://www.miinojibwe.org/event/first-language-speaker-meeting-ningaabiianook-2/
LOCATION:Online\, United States
END:VEVENT
BEGIN:VEVENT
DTSTART;TZID=UTC:20240306T180000
DTEND;TZID=UTC:20240306T200000
DTSTAMP:20260422T214847
CREATED:20240216T223257Z
LAST-MODIFIED:20240216T223257Z
UID:3008-1709748000-1709755200@www.miinojibwe.org
SUMMARY:First Language Speaker Meeting ~ Zhaawanikwe
DESCRIPTION:
URL:https://www.miinojibwe.org/event/first-language-speaker-meeting-zhaawanikwe-2/
LOCATION:Online\, United States
END:VEVENT
BEGIN:VEVENT
DTSTART;TZID=UTC:20240306T153000
DTEND;TZID=UTC:20240306T163000
DTSTAMP:20260422T214847
CREATED:20240101T184237Z
LAST-MODIFIED:20240101T184237Z
UID:2888-1709739000-1709742600@www.miinojibwe.org
SUMMARY:Professional Learning Community Meeting
DESCRIPTION:
URL:https://www.miinojibwe.org/event/professional-learning-community-meeting-24/
LOCATION:Online\, United States
END:VEVENT
BEGIN:VEVENT
DTSTART;TZID=UTC:20240306T110000
DTEND;TZID=UTC:20240306T120000
DTSTAMP:20260422T214847
CREATED:20240101T191456Z
LAST-MODIFIED:20240216T221153Z
UID:2917-1709722800-1709726400@www.miinojibwe.org
SUMMARY:MIIN Board of Directors Quarterly Meeting
DESCRIPTION:
URL:https://www.miinojibwe.org/event/miin-stakeholders-meeting-28/
LOCATION:Online\, United States
END:VEVENT
BEGIN:VEVENT
DTSTART;TZID=UTC:20240228T153000
DTEND;TZID=UTC:20240228T163000
DTSTAMP:20260422T214847
CREATED:20240101T184107Z
LAST-MODIFIED:20240101T184107Z
UID:2885-1709134200-1709137800@www.miinojibwe.org
SUMMARY:Professional Learning Community Meeting
DESCRIPTION:
URL:https://www.miinojibwe.org/event/professional-learning-community-meeting-23/
LOCATION:Online\, United States
END:VEVENT
BEGIN:VEVENT
DTSTART;TZID=UTC:20240227T160000
DTEND;TZID=UTC:20240227T180000
DTSTAMP:20260422T214847
CREATED:20240216T222534Z
LAST-MODIFIED:20240216T223344Z
UID:3003-1709049600-1709056800@www.miinojibwe.org
SUMMARY:First Language Speaker ZOOM ~ Ningaabii'anook
DESCRIPTION:
URL:https://www.miinojibwe.org/event/first-language-speaker-meeting-ningaabiianook/
LOCATION:Online\, United States
END:VEVENT
BEGIN:VEVENT
DTSTART;TZID=UTC:20240221T153000
DTEND;TZID=UTC:20240221T163000
DTSTAMP:20260422T214847
CREATED:20240101T184028Z
LAST-MODIFIED:20240101T184028Z
UID:2883-1708529400-1708533000@www.miinojibwe.org
SUMMARY:Professional Learning Community Meeting
DESCRIPTION:
URL:https://www.miinojibwe.org/event/professional-learning-community-meeting-22/
LOCATION:Online\, United States
END:VEVENT
BEGIN:VEVENT
DTSTART;TZID=UTC:20240220T180000
DTEND;TZID=UTC:20240220T200000
DTSTAMP:20260422T214847
CREATED:20240216T222443Z
LAST-MODIFIED:20240216T223032Z
UID:3001-1708452000-1708459200@www.miinojibwe.org
SUMMARY:First Language Speaker ZOOM ~ Zhaawanikwe
DESCRIPTION:
URL:https://www.miinojibwe.org/event/first-language-speaker-meeting-zhaawanikwe/
LOCATION:Online\, United States
END:VEVENT
BEGIN:VEVENT
DTSTART;TZID=UTC:20240219T170000
DTEND;TZID=UTC:20240219T170000
DTSTAMP:20260422T214847
CREATED:20240216T221039Z
LAST-MODIFIED:20240216T222834Z
UID:2998-1708362000-1708362000@www.miinojibwe.org
SUMMARY:MIIN Board Meeting
DESCRIPTION:
URL:https://www.miinojibwe.org/event/miin-board-meeting/
LOCATION:Online\, United States
END:VEVENT
BEGIN:VEVENT
DTSTART;TZID=UTC:20240214T153000
DTEND;TZID=UTC:20240214T163000
DTSTAMP:20260422T214847
CREATED:20240101T183932Z
LAST-MODIFIED:20240101T183932Z
UID:2881-1707924600-1707928200@www.miinojibwe.org
SUMMARY:Professional Learning Community Meeting
DESCRIPTION:
URL:https://www.miinojibwe.org/event/professional-learning-community-meeting-21/
LOCATION:Online\, United States
END:VEVENT
BEGIN:VEVENT
DTSTART;TZID=America/Chicago:20240212T173000
DTEND;TZID=America/Chicago:20240212T193000
DTSTAMP:20260422T214847
CREATED:20230601T215259Z
LAST-MODIFIED:20230601T215259Z
UID:2643-1707759000-1707766200@www.miinojibwe.org
SUMMARY:MIIN Board of Directors Quarterly Meeting
DESCRIPTION:
URL:https://www.miinojibwe.org/event/miin-board-of-directors-quarterly-meeting-6/
LOCATION:Online\, United States
END:VEVENT
BEGIN:VEVENT
DTSTART;TZID=UTC:20240207T153000
DTEND;TZID=UTC:20240207T163000
DTSTAMP:20260422T214847
CREATED:20240101T183841Z
LAST-MODIFIED:20240101T183841Z
UID:2879-1707319800-1707323400@www.miinojibwe.org
SUMMARY:Professional Learning Community Meeting
DESCRIPTION:
URL:https://www.miinojibwe.org/event/professional-learning-community-meeting-20/
LOCATION:Online\, United States
END:VEVENT
BEGIN:VEVENT
DTSTART;TZID=UTC:20240207T110000
DTEND;TZID=UTC:20240207T120000
DTSTAMP:20260422T214847
CREATED:20240101T190358Z
LAST-MODIFIED:20240101T190358Z
UID:2914-1707303600-1707307200@www.miinojibwe.org
SUMMARY:MIIN Stakeholders Meeting
DESCRIPTION:
URL:https://www.miinojibwe.org/event/miin-stakeholders-meeting-27/
LOCATION:Online\, United States
END:VEVENT
BEGIN:VEVENT
DTSTART;TZID=UTC:20240131T153000
DTEND;TZID=UTC:20240131T163000
DTSTAMP:20260422T214847
CREATED:20240101T183721Z
LAST-MODIFIED:20240101T183721Z
UID:2877-1706715000-1706718600@www.miinojibwe.org
SUMMARY:Professional Learning Community Meeting
DESCRIPTION:
URL:https://www.miinojibwe.org/event/professional-learning-community-meeting-19/
LOCATION:Online\, United States
END:VEVENT
BEGIN:VEVENT
DTSTART;TZID=UTC:20240124T153000
DTEND;TZID=UTC:20240124T163000
DTSTAMP:20260422T214847
CREATED:20240101T183637Z
LAST-MODIFIED:20240101T183637Z
UID:2875-1706110200-1706113800@www.miinojibwe.org
SUMMARY:Professional Learning Community Meeting
DESCRIPTION:
URL:https://www.miinojibwe.org/event/professional-learning-community-meeting-18/
LOCATION:Online\, United States
END:VEVENT
BEGIN:VEVENT
DTSTART;TZID=UTC:20240117T153000
DTEND;TZID=UTC:20240117T163000
DTSTAMP:20260422T214847
CREATED:20240101T183538Z
LAST-MODIFIED:20240101T183538Z
UID:2873-1705505400-1705509000@www.miinojibwe.org
SUMMARY:Professional Learning Community Meeting
DESCRIPTION:
URL:https://www.miinojibwe.org/event/professional-learning-community-meeting-17/
LOCATION:Online\, United States
END:VEVENT
BEGIN:VEVENT
DTSTART;TZID=UTC:20240110T153000
DTEND;TZID=UTC:20240110T163000
DTSTAMP:20260422T214847
CREATED:20240101T183409Z
LAST-MODIFIED:20240101T183456Z
UID:2871-1704900600-1704904200@www.miinojibwe.org
SUMMARY:Professional Learning Community Meeting
DESCRIPTION:
URL:https://www.miinojibwe.org/event/professional-learning-community-meeting-16/
LOCATION:Online\, United States
END:VEVENT
BEGIN:VEVENT
DTSTART;TZID=UTC:20240103T153000
DTEND;TZID=UTC:20240103T163000
DTSTAMP:20260422T214847
CREATED:20231214T013207Z
LAST-MODIFIED:20231214T013207Z
UID:2866-1704295800-1704299400@www.miinojibwe.org
SUMMARY:Professional Learning Community Meeting
DESCRIPTION:
URL:https://www.miinojibwe.org/event/professional-learning-community-meeting-15/
LOCATION:Online\, United States
END:VEVENT
BEGIN:VEVENT
DTSTART;TZID=UTC:20231220T153000
DTEND;TZID=UTC:20231220T163000
DTSTAMP:20260422T214847
CREATED:20231129T215227Z
LAST-MODIFIED:20231129T215227Z
UID:2855-1703086200-1703089800@www.miinojibwe.org
SUMMARY:Professional Learning Community Meeting
DESCRIPTION:
URL:https://www.miinojibwe.org/event/professional-learning-community-meeting-14/
LOCATION:Online\, United States
END:VEVENT
BEGIN:VEVENT
DTSTART;TZID=UTC:20231213T153000
DTEND;TZID=UTC:20231213T163000
DTSTAMP:20260422T214847
CREATED:20231129T215121Z
LAST-MODIFIED:20231129T215121Z
UID:2853-1702481400-1702485000@www.miinojibwe.org
SUMMARY:Professional Learning Community Meeting
DESCRIPTION:
URL:https://www.miinojibwe.org/event/professional-learning-community-meeting-13/
LOCATION:Online\, United States
END:VEVENT
BEGIN:VEVENT
DTSTART;TZID=UTC:20231206T153000
DTEND;TZID=UTC:20231206T163000
DTSTAMP:20260422T214847
CREATED:20231110T150102Z
LAST-MODIFIED:20231110T150102Z
UID:2816-1701876600-1701880200@www.miinojibwe.org
SUMMARY:Professional Learning Community Meeting
DESCRIPTION:
URL:https://www.miinojibwe.org/event/professional-learning-community-meeting-12/
LOCATION:Online\, United States
END:VEVENT
BEGIN:VEVENT
DTSTART;TZID=UTC:20231129T153000
DTEND;TZID=UTC:20231129T163000
DTSTAMP:20260422T214847
CREATED:20231110T145949Z
LAST-MODIFIED:20231110T145949Z
UID:2814-1701271800-1701275400@www.miinojibwe.org
SUMMARY:Professional Learning Community Meeting
DESCRIPTION:
URL:https://www.miinojibwe.org/event/professional-learning-community-meeting-11/
LOCATION:Online\, United States
END:VEVENT
BEGIN:VEVENT
DTSTART;TZID=America/Chicago:20231127T173000
DTEND;TZID=America/Chicago:20231127T193000
DTSTAMP:20260422T214847
CREATED:20230601T215522Z
LAST-MODIFIED:20231110T145725Z
UID:2645-1701106200-1701113400@www.miinojibwe.org
SUMMARY:MIIN Board of Directors Quarterly Meeting
DESCRIPTION:
URL:https://www.miinojibwe.org/event/miin-board-of-directors-quarterly-meeting-7/
LOCATION:Online\, United States
END:VEVENT
BEGIN:VEVENT
DTSTART;TZID=UTC:20231122T153000
DTEND;TZID=UTC:20231122T163000
DTSTAMP:20260422T214847
CREATED:20231110T145903Z
LAST-MODIFIED:20231110T145903Z
UID:2812-1700667000-1700670600@www.miinojibwe.org
SUMMARY:Professional Learning Community Meeting
DESCRIPTION:
URL:https://www.miinojibwe.org/event/professional-learning-community-meeting-10/
LOCATION:Online\, United States
END:VEVENT
BEGIN:VEVENT
DTSTART;TZID=UTC:20231115T153000
DTEND;TZID=UTC:20231115T163000
DTSTAMP:20260422T214847
CREATED:20231018T211342Z
LAST-MODIFIED:20231018T211342Z
UID:2791-1700062200-1700065800@www.miinojibwe.org
SUMMARY:Professional Learning Community Meeting
DESCRIPTION:
URL:https://www.miinojibwe.org/event/professional-learning-community-meeting-9/
LOCATION:Online\, United States
END:VEVENT
BEGIN:VEVENT
DTSTART;TZID=UTC:20231108T153000
DTEND;TZID=UTC:20231108T163000
DTSTAMP:20260422T214847
CREATED:20231018T211220Z
LAST-MODIFIED:20231018T211220Z
UID:2789-1699457400-1699461000@www.miinojibwe.org
SUMMARY:Professional Learning Community Meeting
DESCRIPTION:
URL:https://www.miinojibwe.org/event/professional-learning-community-meeting-8/
LOCATION:Online\, United States
END:VEVENT
BEGIN:VEVENT
DTSTART;TZID=UTC:20231101T153000
DTEND;TZID=UTC:20231101T163000
DTSTAMP:20260422T214847
CREATED:20231018T211112Z
LAST-MODIFIED:20231018T211112Z
UID:2787-1698852600-1698856200@www.miinojibwe.org
SUMMARY:Professional Learning Community Meeting
DESCRIPTION:
URL:https://www.miinojibwe.org/event/professional-learning-community-meeting-7/
LOCATION:Online\, United States
END:VEVENT
BEGIN:VEVENT
DTSTART;TZID=UTC:20231025T153000
DTEND;TZID=UTC:20231025T163000
DTSTAMP:20260422T214847
CREATED:20231010T225928Z
LAST-MODIFIED:20231010T225928Z
UID:2783-1698247800-1698251400@www.miinojibwe.org
SUMMARY:Professional Learning Community Meeting
DESCRIPTION:
URL:https://www.miinojibwe.org/event/professional-learning-community-meeting-6/
LOCATION:Online\, United States
END:VEVENT
END:VCALENDAR