BEGIN:VCALENDAR
VERSION:2.0
PRODID:-//Midwest Indigenous Immersion Network (MIIN) - ECPv6.15.20//NONSGML v1.0//EN
CALSCALE:GREGORIAN
METHOD:PUBLISH
X-ORIGINAL-URL:https://www.miinojibwe.org
X-WR-CALDESC:Events for Midwest Indigenous Immersion Network (MIIN)
REFRESH-INTERVAL;VALUE=DURATION:PT1H
X-Robots-Tag:noindex
X-PUBLISHED-TTL:PT1H
BEGIN:VTIMEZONE
TZID:UTC
BEGIN:STANDARD
TZOFFSETFROM:+0000
TZOFFSETTO:+0000
TZNAME:UTC
DTSTART:20230101T000000
END:STANDARD
END:VTIMEZONE
BEGIN:VTIMEZONE
TZID:America/New_York
BEGIN:DAYLIGHT
TZOFFSETFROM:-0500
TZOFFSETTO:-0400
TZNAME:EDT
DTSTART:20230312T070000
END:DAYLIGHT
BEGIN:STANDARD
TZOFFSETFROM:-0400
TZOFFSETTO:-0500
TZNAME:EST
DTSTART:20231105T060000
END:STANDARD
BEGIN:DAYLIGHT
TZOFFSETFROM:-0500
TZOFFSETTO:-0400
TZNAME:EDT
DTSTART:20240310T070000
END:DAYLIGHT
BEGIN:STANDARD
TZOFFSETFROM:-0400
TZOFFSETTO:-0500
TZNAME:EST
DTSTART:20241103T060000
END:STANDARD
BEGIN:DAYLIGHT
TZOFFSETFROM:-0500
TZOFFSETTO:-0400
TZNAME:EDT
DTSTART:20250309T070000
END:DAYLIGHT
BEGIN:STANDARD
TZOFFSETFROM:-0400
TZOFFSETTO:-0500
TZNAME:EST
DTSTART:20251102T060000
END:STANDARD
END:VTIMEZONE
BEGIN:VTIMEZONE
TZID:America/Chicago
BEGIN:DAYLIGHT
TZOFFSETFROM:-0600
TZOFFSETTO:-0500
TZNAME:CDT
DTSTART:20230312T080000
END:DAYLIGHT
BEGIN:STANDARD
TZOFFSETFROM:-0500
TZOFFSETTO:-0600
TZNAME:CST
DTSTART:20231105T070000
END:STANDARD
BEGIN:DAYLIGHT
TZOFFSETFROM:-0600
TZOFFSETTO:-0500
TZNAME:CDT
DTSTART:20240310T080000
END:DAYLIGHT
BEGIN:STANDARD
TZOFFSETFROM:-0500
TZOFFSETTO:-0600
TZNAME:CST
DTSTART:20241103T070000
END:STANDARD
BEGIN:DAYLIGHT
TZOFFSETFROM:-0600
TZOFFSETTO:-0500
TZNAME:CDT
DTSTART:20250309T080000
END:DAYLIGHT
BEGIN:STANDARD
TZOFFSETFROM:-0500
TZOFFSETTO:-0600
TZNAME:CST
DTSTART:20251102T070000
END:STANDARD
END:VTIMEZONE
BEGIN:VEVENT
DTSTART;TZID=UTC:20241024T160000
DTEND;TZID=UTC:20241024T170000
DTSTAMP:20260422T164856
CREATED:20240827T182154Z
LAST-MODIFIED:20240827T182154Z
UID:3322-1729785600-1729789200@www.miinojibwe.org
SUMMARY:Professional Learning Community ZOOM
DESCRIPTION:
URL:https://www.miinojibwe.org/event/professional-learning-community-zoom-6/
LOCATION:Online\, United States
END:VEVENT
BEGIN:VEVENT
DTSTART;TZID=UTC:20241023T160000
DTEND;TZID=UTC:20241023T180000
DTSTAMP:20260422T164856
CREATED:20240827T172919Z
LAST-MODIFIED:20240827T172919Z
UID:3291-1729699200-1729706400@www.miinojibwe.org
SUMMARY:First Language Speaker Meeting ~ Ningaabii'anook
DESCRIPTION:
URL:https://www.miinojibwe.org/event/first-language-speaker-meeting-ningaabiianook-14/
END:VEVENT
BEGIN:VEVENT
DTSTART;TZID=UTC:20241017T160000
DTEND;TZID=UTC:20241017T170000
DTSTAMP:20260422T164856
CREATED:20240827T180302Z
LAST-MODIFIED:20240827T180930Z
UID:3319-1729180800-1729184400@www.miinojibwe.org
SUMMARY:Professional Learning Community ZOOM
DESCRIPTION:
URL:https://www.miinojibwe.org/event/professional-learning-community-zoom-5/
LOCATION:Online\, United States
END:VEVENT
BEGIN:VEVENT
DTSTART;TZID=UTC:20241016T190000
DTEND;TZID=UTC:20241016T200000
DTSTAMP:20260422T164856
CREATED:20240813T163751Z
LAST-MODIFIED:20240813T163751Z
UID:3245-1729105200-1729108800@www.miinojibwe.org
SUMMARY:Board Meeting
DESCRIPTION:
URL:https://www.miinojibwe.org/event/board-meeting/
LOCATION:Online\, United States
END:VEVENT
BEGIN:VEVENT
DTSTART;TZID=UTC:20241015T180000
DTEND;TZID=UTC:20241015T200000
DTSTAMP:20260422T164856
CREATED:20240827T172837Z
LAST-MODIFIED:20240827T172837Z
UID:3289-1729015200-1729022400@www.miinojibwe.org
SUMMARY:First Language Speaker Meeting ~ Zhaawanikwe
DESCRIPTION:
URL:https://www.miinojibwe.org/event/first-language-speaker-meeting-zhaawanikwe-14/
END:VEVENT
BEGIN:VEVENT
DTSTART;TZID=UTC:20241010T160000
DTEND;TZID=UTC:20241010T170000
DTSTAMP:20260422T164856
CREATED:20240827T180222Z
LAST-MODIFIED:20240827T183656Z
UID:3317-1728576000-1728579600@www.miinojibwe.org
SUMMARY:Professional Learning Community ZOOM
DESCRIPTION:
URL:https://www.miinojibwe.org/event/professional-learning-community-zoom-4/
LOCATION:Online\, United States
END:VEVENT
BEGIN:VEVENT
DTSTART;TZID=UTC:20241010T110000
DTEND;TZID=UTC:20241010T120000
DTSTAMP:20260422T164856
CREATED:20240909T134151Z
LAST-MODIFIED:20240909T134151Z
UID:3396-1728558000-1728561600@www.miinojibwe.org
SUMMARY:Stakeholder Meeting
DESCRIPTION:
URL:https://www.miinojibwe.org/event/stakeholder-meeting-2/
LOCATION:Online\, United States
END:VEVENT
BEGIN:VEVENT
DTSTART;TZID=UTC:20241009T160000
DTEND;TZID=UTC:20241009T180000
DTSTAMP:20260422T164856
CREATED:20240827T172802Z
LAST-MODIFIED:20240827T172802Z
UID:3287-1728489600-1728496800@www.miinojibwe.org
SUMMARY:First Language Speaker Meeting ~ Ningaabii'anook
DESCRIPTION:
URL:https://www.miinojibwe.org/event/first-language-speaker-meeting-ningaabiianook-13/
LOCATION:Online\, United States
END:VEVENT
BEGIN:VEVENT
DTSTART;TZID=UTC:20241003T160000
DTEND;TZID=UTC:20241003T170000
DTSTAMP:20260422T164856
CREATED:20240827T180149Z
LAST-MODIFIED:20240827T180850Z
UID:3315-1727971200-1727974800@www.miinojibwe.org
SUMMARY:Professional Learning Community ZOOM
DESCRIPTION:
URL:https://www.miinojibwe.org/event/professional-learning-community-zoom-3/
LOCATION:Online\, United States
END:VEVENT
BEGIN:VEVENT
DTSTART;TZID=America/New_York:20240927T080000
DTEND;TZID=America/New_York:20240927T160000
DTSTAMP:20260422T164856
CREATED:20240827T184138Z
LAST-MODIFIED:20240827T184518Z
UID:3336-1727424000-1727452800@www.miinojibwe.org
SUMMARY:MIIN Fall Professional Development\, Immersion 101 (part 2)
DESCRIPTION:
URL:https://www.miinojibwe.org/event/miin-fall-professional-development-immersion-101-part-2/
LOCATION:Anishinaabewigamigong Language & Cultural Learning Center\, 1713 Animikii Rd.\, Cloquet\, MN\, 55720\, United States
END:VEVENT
BEGIN:VEVENT
DTSTART;TZID=UTC:20240926T160000
DTEND;TZID=UTC:20240926T170000
DTSTAMP:20260422T164856
CREATED:20240827T180004Z
LAST-MODIFIED:20240827T180817Z
UID:3313-1727366400-1727370000@www.miinojibwe.org
SUMMARY:Professional Learning Community ZOOM
DESCRIPTION:
URL:https://www.miinojibwe.org/event/professional-learning-community-zoom-2/
LOCATION:Online\, United States
END:VEVENT
BEGIN:VEVENT
DTSTART;TZID=UTC:20240925T160000
DTEND;TZID=UTC:20240925T180000
DTSTAMP:20260422T164856
CREATED:20240827T171547Z
LAST-MODIFIED:20240827T171547Z
UID:3282-1727280000-1727287200@www.miinojibwe.org
SUMMARY:First Language Speaker Meeting ~ Ningaabii'anook
DESCRIPTION:
URL:https://www.miinojibwe.org/event/first-language-speaker-meeting-ningaabiianook-12/
LOCATION:Online\, United States
END:VEVENT
BEGIN:VEVENT
DTSTART;TZID=UTC:20240919T160000
DTEND;TZID=UTC:20240919T170000
DTSTAMP:20260422T164856
CREATED:20240827T174229Z
LAST-MODIFIED:20240827T180740Z
UID:3311-1726761600-1726765200@www.miinojibwe.org
SUMMARY:Professional Learning Community ZOOM
DESCRIPTION:
URL:https://www.miinojibwe.org/event/professional-learning-community-zoom/
LOCATION:Online\, United States
END:VEVENT
BEGIN:VEVENT
DTSTART;TZID=UTC:20240917T180000
DTEND;TZID=UTC:20240917T200000
DTSTAMP:20260422T164856
CREATED:20240827T171457Z
LAST-MODIFIED:20240827T171457Z
UID:3280-1726596000-1726603200@www.miinojibwe.org
SUMMARY:First Language Speaker Meeting ~ Zhaawanikwe
DESCRIPTION:
URL:https://www.miinojibwe.org/event/first-language-speaker-meeting-zhaawanikwe-12/
LOCATION:Online\, United States
END:VEVENT
BEGIN:VEVENT
DTSTART;TZID=UTC:20240912T110000
DTEND;TZID=UTC:20240912T120000
DTSTAMP:20260422T164856
CREATED:20240906T131347Z
LAST-MODIFIED:20240906T131348Z
UID:3393-1726138800-1726142400@www.miinojibwe.org
SUMMARY:Stakeholder Meeting
DESCRIPTION:
URL:https://www.miinojibwe.org/event/stakeholder-meeting/
LOCATION:Online\, United States
END:VEVENT
BEGIN:VEVENT
DTSTART;TZID=UTC:20240911T160000
DTEND;TZID=UTC:20240911T180000
DTSTAMP:20260422T164856
CREATED:20240827T171357Z
LAST-MODIFIED:20240827T171357Z
UID:3278-1726070400-1726077600@www.miinojibwe.org
SUMMARY:First Language Speaker Meeting ~ Ningaabii'anook
DESCRIPTION:
URL:https://www.miinojibwe.org/event/first-language-speaker-meeting-ningaabiianook-11/
LOCATION:Online\, United States
END:VEVENT
BEGIN:VEVENT
DTSTART;TZID=UTC:20240903T180000
DTEND;TZID=UTC:20240903T200000
DTSTAMP:20260422T164856
CREATED:20240827T171308Z
LAST-MODIFIED:20240827T171308Z
UID:3276-1725386400-1725393600@www.miinojibwe.org
SUMMARY:First Language Speaker Meeting ~ Zhaawanikwe
DESCRIPTION:
URL:https://www.miinojibwe.org/event/first-language-speaker-meeting-zhaawanikwe-11/
LOCATION:Online\, United States
END:VEVENT
BEGIN:VEVENT
DTSTART;TZID=UTC:20240828T160000
DTEND;TZID=UTC:20240828T180000
DTSTAMP:20260422T164856
CREATED:20240827T171215Z
LAST-MODIFIED:20240827T171215Z
UID:3274-1724860800-1724868000@www.miinojibwe.org
SUMMARY:First Language Speaker Meeting ~ Ningaabii'anook
DESCRIPTION:
URL:https://www.miinojibwe.org/event/first-language-speaker-meeting-ningaabiianook-10/
LOCATION:Online\, United States
END:VEVENT
BEGIN:VEVENT
DTSTART;TZID=UTC:20240820T180000
DTEND;TZID=UTC:20240820T200000
DTSTAMP:20260422T164856
CREATED:20240422T200452Z
LAST-MODIFIED:20240422T200452Z
UID:3154-1724176800-1724184000@www.miinojibwe.org
SUMMARY:First Language Speaker Meeting ~ Zhaawanikwe
DESCRIPTION:
URL:https://www.miinojibwe.org/event/first-language-speaker-meeting-zhaawanikwe-10/
LOCATION:Online\, United States
END:VEVENT
BEGIN:VEVENT
DTSTART;TZID=UTC:20240813T160000
DTEND;TZID=UTC:20240813T180000
DTSTAMP:20260422T164856
CREATED:20240422T200410Z
LAST-MODIFIED:20240827T172639Z
UID:3152-1723564800-1723572000@www.miinojibwe.org
SUMMARY:First Language Speaker Meeting ~ Ningaabii'anook
DESCRIPTION:
URL:https://www.miinojibwe.org/event/first-language-speaker-meeting-ningaabiianook-9/
LOCATION:Online\, United States
END:VEVENT
BEGIN:VEVENT
DTSTART;TZID=America/Chicago:20240812T173000
DTEND;TZID=America/Chicago:20240812T193000
DTSTAMP:20260422T164856
CREATED:20230601T215725Z
LAST-MODIFIED:20230601T215725Z
UID:2649-1723483800-1723491000@www.miinojibwe.org
SUMMARY:MIIN Board of Directors Quarterly Meeting
DESCRIPTION:
URL:https://www.miinojibwe.org/event/miin-board-of-directors-quarterly-meeting-9/
LOCATION:Online\, United States
END:VEVENT
BEGIN:VEVENT
DTSTART;TZID=UTC:20240611T180000
DTEND;TZID=UTC:20240611T200000
DTSTAMP:20260422T164856
CREATED:20240422T200307Z
LAST-MODIFIED:20240422T200307Z
UID:3150-1718128800-1718136000@www.miinojibwe.org
SUMMARY:First Language Speaker Meeting ~ Zhaawanikwe
DESCRIPTION:
URL:https://www.miinojibwe.org/event/first-language-speaker-meeting-zhaawanikwe-9/
LOCATION:Online\, United States
END:VEVENT
BEGIN:VEVENT
DTSTART;TZID=UTC:20240604T160000
DTEND;TZID=UTC:20240604T180000
DTSTAMP:20260422T164856
CREATED:20240422T200224Z
LAST-MODIFIED:20240422T200224Z
UID:3148-1717516800-1717524000@www.miinojibwe.org
SUMMARY:First Language Speaker Meeting ~ Ningaabii'anook
DESCRIPTION:
URL:https://www.miinojibwe.org/event/first-language-speaker-meeting-ningaabiianook-8/
LOCATION:Online\, United States
END:VEVENT
BEGIN:VEVENT
DTSTART;TZID=UTC:20240531T081500
DTEND;TZID=UTC:20240531T160000
DTSTAMP:20260422T164856
CREATED:20240510T140323Z
LAST-MODIFIED:20240510T140323Z
UID:3172-1717143300-1717171200@www.miinojibwe.org
SUMMARY:Spring 2024 Professional Development
DESCRIPTION:
URL:https://www.miinojibwe.org/event/spring-2024-professional-development/
LOCATION:Anishinaabewigamigong Language & Cultural Learning Center\, 1713 Animikii Rd.\, Cloquet\, MN\, 55720\, United States
END:VEVENT
BEGIN:VEVENT
DTSTART;TZID=UTC:20240529T153000
DTEND;TZID=UTC:20240529T163000
DTSTAMP:20260422T164856
CREATED:20240101T190059Z
LAST-MODIFIED:20240101T190059Z
UID:2912-1716996600-1717000200@www.miinojibwe.org
SUMMARY:Professional Learning Community Meeting
DESCRIPTION:
URL:https://www.miinojibwe.org/event/professional-learning-community-meeting-36/
LOCATION:Online\, United States
END:VEVENT
BEGIN:VEVENT
DTSTART;TZID=UTC:20240528T180000
DTEND;TZID=UTC:20240528T200000
DTSTAMP:20260422T164856
CREATED:20240322T141534Z
LAST-MODIFIED:20240408T200003Z
UID:3099-1716919200-1716926400@www.miinojibwe.org
SUMMARY:First Language Speaker Meeting ~ Zhaawanikwe
DESCRIPTION:
URL:https://www.miinojibwe.org/event/first-language-speaker-meeting-zhaawanikwe-8/
LOCATION:Online\, United States
END:VEVENT
BEGIN:VEVENT
DTSTART;TZID=UTC:20240522T153000
DTEND;TZID=UTC:20240522T163000
DTSTAMP:20260422T164856
CREATED:20240101T190020Z
LAST-MODIFIED:20240101T190020Z
UID:2910-1716391800-1716395400@www.miinojibwe.org
SUMMARY:Professional Learning Community Meeting
DESCRIPTION:
URL:https://www.miinojibwe.org/event/professional-learning-community-meeting-35/
LOCATION:Online\, United States
END:VEVENT
BEGIN:VEVENT
DTSTART;TZID=UTC:20240521T160000
DTEND;TZID=UTC:20240521T180000
DTSTAMP:20260422T164856
CREATED:20240322T141319Z
LAST-MODIFIED:20240322T141319Z
UID:3097-1716307200-1716314400@www.miinojibwe.org
SUMMARY:First Language Speaker Meeting ~ Ningaabii’anook
DESCRIPTION:
URL:https://www.miinojibwe.org/event/first-language-speaker-meeting-ningaabiianook-7/
LOCATION:Online\, United States
END:VEVENT
BEGIN:VEVENT
DTSTART;TZID=UTC:20240515T153000
DTEND;TZID=UTC:20240515T163000
DTSTAMP:20260422T164856
CREATED:20240101T185925Z
LAST-MODIFIED:20240101T185925Z
UID:2908-1715787000-1715790600@www.miinojibwe.org
SUMMARY:Professional Learning Community Meeting
DESCRIPTION:
URL:https://www.miinojibwe.org/event/professional-learning-community-meeting-34/
LOCATION:Online\, United States
END:VEVENT
BEGIN:VEVENT
DTSTART;TZID=UTC:20240514T180000
DTEND;TZID=UTC:20240514T200000
DTSTAMP:20260422T164856
CREATED:20240322T141244Z
LAST-MODIFIED:20240408T195938Z
UID:3095-1715709600-1715716800@www.miinojibwe.org
SUMMARY:First Language Speaker Meeting ~ Zhaawanikwe
DESCRIPTION:
URL:https://www.miinojibwe.org/event/first-language-speaker-meeting-zhaawanikwe-7/
LOCATION:Online\, United States
END:VEVENT
END:VCALENDAR