BEGIN:VCALENDAR
VERSION:2.0
PRODID:-//Midwest Indigenous Immersion Network (MIIN) - ECPv6.15.20//NONSGML v1.0//EN
CALSCALE:GREGORIAN
METHOD:PUBLISH
X-ORIGINAL-URL:https://www.miinojibwe.org
X-WR-CALDESC:Events for Midwest Indigenous Immersion Network (MIIN)
REFRESH-INTERVAL;VALUE=DURATION:PT1H
X-Robots-Tag:noindex
X-PUBLISHED-TTL:PT1H
BEGIN:VTIMEZONE
TZID:UTC
BEGIN:STANDARD
TZOFFSETFROM:+0000
TZOFFSETTO:+0000
TZNAME:UTC
DTSTART:20230101T000000
END:STANDARD
END:VTIMEZONE
BEGIN:VEVENT
DTSTART;TZID=UTC:20250417T160000
DTEND;TZID=UTC:20250417T170000
DTSTAMP:20260422T124427
CREATED:20250206T142014Z
LAST-MODIFIED:20250206T142014Z
UID:3673-1744905600-1744909200@www.miinojibwe.org
SUMMARY:PLC Meeting
DESCRIPTION:
URL:https://www.miinojibwe.org/event/plc-meeting-9/
END:VEVENT
BEGIN:VEVENT
DTSTART;TZID=UTC:20250410T160000
DTEND;TZID=UTC:20250410T170000
DTSTAMP:20260422T124427
CREATED:20250206T141836Z
LAST-MODIFIED:20250206T141836Z
UID:3671-1744300800-1744304400@www.miinojibwe.org
SUMMARY:PLC Meeting
DESCRIPTION:
URL:https://www.miinojibwe.org/event/plc-meeting-8/
END:VEVENT
BEGIN:VEVENT
DTSTART;TZID=UTC:20250409T150000
DTEND;TZID=UTC:20250409T170000
DTSTAMP:20260422T124427
CREATED:20250212T192300Z
LAST-MODIFIED:20250212T192300Z
UID:3718-1744210800-1744218000@www.miinojibwe.org
SUMMARY:1st Language Speaker Q & A
DESCRIPTION:
URL:https://www.miinojibwe.org/event/1st-language-speaker-q-a-5/
LOCATION:Online\, United States
END:VEVENT
BEGIN:VEVENT
DTSTART;TZID=UTC:20250404T080000
DTEND;TZID=UTC:20250404T160000
DTSTAMP:20260422T124427
CREATED:20241202T191427Z
LAST-MODIFIED:20241202T191443Z
UID:3620-1743753600-1743782400@www.miinojibwe.org
SUMMARY:Immersion 101 ~ Part 3 with Amy Young
DESCRIPTION:
URL:https://www.miinojibwe.org/event/immersion-101-part-3-with-amy-young/
LOCATION:Anishinaabewigamigong Language & Cultural Learning Center\, 1713 Animikii Rd.\, Cloquet\, MN\, 55720\, United States
END:VEVENT
BEGIN:VEVENT
DTSTART;TZID=UTC:20250403T160000
DTEND;TZID=UTC:20250403T170000
DTSTAMP:20260422T124427
CREATED:20250206T141802Z
LAST-MODIFIED:20250206T141904Z
UID:3669-1743696000-1743699600@www.miinojibwe.org
SUMMARY:PLC Meeting
DESCRIPTION:
URL:https://www.miinojibwe.org/event/plc-meeting-7/
END:VEVENT
BEGIN:VEVENT
DTSTART;TZID=UTC:20250320T160000
DTEND;TZID=UTC:20250320T170000
DTSTAMP:20260422T124427
CREATED:20250206T141716Z
LAST-MODIFIED:20250206T141716Z
UID:3667-1742486400-1742490000@www.miinojibwe.org
SUMMARY:PLC Meeting
DESCRIPTION:
URL:https://www.miinojibwe.org/event/plc-meeting-6/
END:VEVENT
BEGIN:VEVENT
DTSTART;TZID=UTC:20250313T160000
DTEND;TZID=UTC:20250313T170000
DTSTAMP:20260422T124427
CREATED:20250206T141644Z
LAST-MODIFIED:20250206T141644Z
UID:3665-1741881600-1741885200@www.miinojibwe.org
SUMMARY:PLC Meeting
DESCRIPTION:
URL:https://www.miinojibwe.org/event/plc-meeting-5/
END:VEVENT
BEGIN:VEVENT
DTSTART;TZID=UTC:20250313T110000
DTEND;TZID=UTC:20250313T120000
DTSTAMP:20260422T124427
CREATED:20240909T134542Z
LAST-MODIFIED:20240909T134542Z
UID:3406-1741863600-1741867200@www.miinojibwe.org
SUMMARY:Stakeholder Meeting
DESCRIPTION:
URL:https://www.miinojibwe.org/event/stakeholder-meeting-7/
LOCATION:Online\, United States
END:VEVENT
BEGIN:VEVENT
DTSTART;TZID=UTC:20250312T150000
DTEND;TZID=UTC:20250312T170000
DTSTAMP:20260422T124427
CREATED:20250212T192115Z
LAST-MODIFIED:20250212T192115Z
UID:3714-1741791600-1741798800@www.miinojibwe.org
SUMMARY:1st Language Speaker Q & A
DESCRIPTION:
URL:https://www.miinojibwe.org/event/1st-language-speaker-q-a-3/
LOCATION:Online\, United States
END:VEVENT
BEGIN:VEVENT
DTSTART;TZID=UTC:20250306T160000
DTEND;TZID=UTC:20250306T170000
DTSTAMP:20260422T124427
CREATED:20250206T141613Z
LAST-MODIFIED:20250206T141613Z
UID:3663-1741276800-1741280400@www.miinojibwe.org
SUMMARY:PLC Meeting
DESCRIPTION:
URL:https://www.miinojibwe.org/event/plc-meeting-4/
END:VEVENT
BEGIN:VEVENT
DTSTART;TZID=UTC:20250227T160000
DTEND;TZID=UTC:20250227T170000
DTSTAMP:20260422T124427
CREATED:20250206T141355Z
LAST-MODIFIED:20250206T141355Z
UID:3661-1740672000-1740675600@www.miinojibwe.org
SUMMARY:PLC Meeting
DESCRIPTION:
URL:https://www.miinojibwe.org/event/plc-meeting-3/
END:VEVENT
BEGIN:VEVENT
DTSTART;TZID=UTC:20250226T150000
DTEND;TZID=UTC:20250226T170000
DTSTAMP:20260422T124427
CREATED:20250212T192022Z
LAST-MODIFIED:20250212T192022Z
UID:3712-1740582000-1740589200@www.miinojibwe.org
SUMMARY:1st Language Speaker Q & A
DESCRIPTION:
URL:https://www.miinojibwe.org/event/1st-language-speaker-q-a-2/
LOCATION:Online\, United States
END:VEVENT
BEGIN:VEVENT
DTSTART;TZID=UTC:20250220T160000
DTEND;TZID=UTC:20250220T170000
DTSTAMP:20260422T124427
CREATED:20250206T141221Z
LAST-MODIFIED:20250206T141221Z
UID:3659-1740067200-1740070800@www.miinojibwe.org
SUMMARY:PLC Meeting
DESCRIPTION:
URL:https://www.miinojibwe.org/event/plc-meeting-2/
END:VEVENT
BEGIN:VEVENT
DTSTART;TZID=UTC:20250218T173000
DTEND;TZID=UTC:20250218T193000
DTSTAMP:20260422T124427
CREATED:20250206T141013Z
LAST-MODIFIED:20250206T141013Z
UID:3655-1739899800-1739907000@www.miinojibwe.org
SUMMARY:Board Meeting
DESCRIPTION:
URL:https://www.miinojibwe.org/event/board-meeting-4/
END:VEVENT
BEGIN:VEVENT
DTSTART;TZID=UTC:20250213T160000
DTEND;TZID=UTC:20250213T170000
DTSTAMP:20260422T124427
CREATED:20250206T141120Z
LAST-MODIFIED:20250206T141259Z
UID:3657-1739462400-1739466000@www.miinojibwe.org
SUMMARY:PLC Meeting
DESCRIPTION:
URL:https://www.miinojibwe.org/event/plc-meeting/
END:VEVENT
BEGIN:VEVENT
DTSTART;TZID=UTC:20250213T110000
DTEND;TZID=UTC:20250213T120000
DTSTAMP:20260422T124427
CREATED:20240909T134457Z
LAST-MODIFIED:20240909T134457Z
UID:3404-1739444400-1739448000@www.miinojibwe.org
SUMMARY:Stakeholder Meeting
DESCRIPTION:
URL:https://www.miinojibwe.org/event/stakeholder-meeting-6/
LOCATION:Online\, United States
END:VEVENT
BEGIN:VEVENT
DTSTART;TZID=UTC:20250212T150000
DTEND;TZID=UTC:20250212T170000
DTSTAMP:20260422T124427
CREATED:20250212T191946Z
LAST-MODIFIED:20250212T191946Z
UID:3710-1739372400-1739379600@www.miinojibwe.org
SUMMARY:1st Language Speaker Q & A
DESCRIPTION:
URL:https://www.miinojibwe.org/event/1st-language-speaker-q-a/
LOCATION:Online\, United States
END:VEVENT
BEGIN:VEVENT
DTSTART;TZID=UTC:20250206T160000
DTEND;TZID=UTC:20250206T170000
DTSTAMP:20260422T124427
CREATED:20250206T140723Z
LAST-MODIFIED:20250206T141538Z
UID:3652-1738857600-1738861200@www.miinojibwe.org
SUMMARY:PLC Meeting
DESCRIPTION:
URL:https://www.miinojibwe.org/event/board-meeting-3/
END:VEVENT
BEGIN:VEVENT
DTSTART;TZID=UTC:20250109T110000
DTEND;TZID=UTC:20250109T120000
DTSTAMP:20260422T124427
CREATED:20240909T134412Z
LAST-MODIFIED:20240909T134853Z
UID:3402-1736420400-1736424000@www.miinojibwe.org
SUMMARY:Stakeholder Meeting
DESCRIPTION:
URL:https://www.miinojibwe.org/event/stakeholder-meeting-5/
LOCATION:Online\, United States
END:VEVENT
BEGIN:VEVENT
DTSTART;TZID=UTC:20241219T160000
DTEND;TZID=UTC:20241219T170000
DTSTAMP:20260422T124427
CREATED:20240827T182638Z
LAST-MODIFIED:20240827T182638Z
UID:3334-1734624000-1734627600@www.miinojibwe.org
SUMMARY:Professional Learning Community ZOOM
DESCRIPTION:
URL:https://www.miinojibwe.org/event/professional-learning-community-zoom-12/
LOCATION:Online\, United States
END:VEVENT
BEGIN:VEVENT
DTSTART;TZID=UTC:20241218T160000
DTEND;TZID=UTC:20241218T180000
DTSTAMP:20260422T124427
CREATED:20240827T173754Z
LAST-MODIFIED:20240827T173754Z
UID:3307-1734537600-1734544800@www.miinojibwe.org
SUMMARY:First Language Speaker Meeting ~ Ningaabii'anook
DESCRIPTION:
URL:https://www.miinojibwe.org/event/first-language-speaker-meeting-ningaabiianook-18/
LOCATION:Online\, United States
END:VEVENT
BEGIN:VEVENT
DTSTART;TZID=UTC:20241212T160000
DTEND;TZID=UTC:20241212T170000
DTSTAMP:20260422T124427
CREATED:20240827T182553Z
LAST-MODIFIED:20240827T182553Z
UID:3332-1734019200-1734022800@www.miinojibwe.org
SUMMARY:Professional Learning Community ZOOM
DESCRIPTION:
URL:https://www.miinojibwe.org/event/professional-learning-community-zoom-11/
LOCATION:Online\, United States
END:VEVENT
BEGIN:VEVENT
DTSTART;TZID=UTC:20241212T110000
DTEND;TZID=UTC:20241212T120000
DTSTAMP:20260422T124427
CREATED:20240909T134322Z
LAST-MODIFIED:20240909T134322Z
UID:3400-1734001200-1734004800@www.miinojibwe.org
SUMMARY:Stakeholder Meeting
DESCRIPTION:
URL:https://www.miinojibwe.org/event/stakeholder-meeting-4/
LOCATION:Online\, United States
END:VEVENT
BEGIN:VEVENT
DTSTART;TZID=UTC:20241210T180000
DTEND;TZID=UTC:20241210T200000
DTSTAMP:20260422T124427
CREATED:20240827T173710Z
LAST-MODIFIED:20240827T173819Z
UID:3305-1733853600-1733860800@www.miinojibwe.org
SUMMARY:First Language Speaker Meeting ~ Zhaawanikwe
DESCRIPTION:
URL:https://www.miinojibwe.org/event/first-language-speaker-meeting-zhaawanikwe-18/
LOCATION:Online\, United States
END:VEVENT
BEGIN:VEVENT
DTSTART;TZID=UTC:20241205T160000
DTEND;TZID=UTC:20241205T170000
DTSTAMP:20260422T124427
CREATED:20240827T182520Z
LAST-MODIFIED:20240827T182520Z
UID:3330-1733414400-1733418000@www.miinojibwe.org
SUMMARY:Professional Learning Community ZOOM
DESCRIPTION:
URL:https://www.miinojibwe.org/event/professional-learning-community-zoom-10/
LOCATION:Online\, United States
END:VEVENT
BEGIN:VEVENT
DTSTART;TZID=UTC:20241204T160000
DTEND;TZID=UTC:20241204T180000
DTSTAMP:20260422T124427
CREATED:20240827T173627Z
LAST-MODIFIED:20240827T173627Z
UID:3303-1733328000-1733335200@www.miinojibwe.org
SUMMARY:First Language Speaker Meeting ~ Ningaabii'anook
DESCRIPTION:
URL:https://www.miinojibwe.org/event/first-language-speaker-meeting-ningaabiianook-17/
LOCATION:Online\, United States
END:VEVENT
BEGIN:VEVENT
DTSTART;TZID=UTC:20241126T180000
DTEND;TZID=UTC:20241126T200000
DTSTAMP:20260422T124427
CREATED:20240827T173507Z
LAST-MODIFIED:20240827T173507Z
UID:3301-1732644000-1732651200@www.miinojibwe.org
SUMMARY:First Language Speaker Meeting ~ Zhaawanikwe
DESCRIPTION:
URL:https://www.miinojibwe.org/event/first-language-speaker-meeting-zhaawanikwe-17/
LOCATION:Online\, United States
END:VEVENT
BEGIN:VEVENT
DTSTART;TZID=UTC:20241125T190000
DTEND;TZID=UTC:20241125T200000
DTSTAMP:20260422T124427
CREATED:20240828T143148Z
LAST-MODIFIED:20241120T180309Z
UID:3338-1732561200-1732564800@www.miinojibwe.org
SUMMARY:Board Meeting
DESCRIPTION:
URL:https://www.miinojibwe.org/event/board-meeting-2/
LOCATION:Lac Courte Orielles Ojibwe University\, 13466 W. Trepania Rd.\, Hayward\, WI\, 54843\, United States
END:VEVENT
BEGIN:VEVENT
DTSTART;TZID=UTC:20241121T160000
DTEND;TZID=UTC:20241121T170000
DTSTAMP:20260422T124427
CREATED:20240827T182412Z
LAST-MODIFIED:20240827T182412Z
UID:3328-1732204800-1732208400@www.miinojibwe.org
SUMMARY:Professional Learning Community ZOOM
DESCRIPTION:
URL:https://www.miinojibwe.org/event/professional-learning-community-zoom-9/
LOCATION:Online\, United States
END:VEVENT
BEGIN:VEVENT
DTSTART;TZID=UTC:20241120T160000
DTEND;TZID=UTC:20241120T180000
DTSTAMP:20260422T124427
CREATED:20240827T173257Z
LAST-MODIFIED:20240827T173345Z
UID:3299-1732118400-1732125600@www.miinojibwe.org
SUMMARY:First Language Speaker Meeting ~ Ningaabii'anook
DESCRIPTION:
URL:https://www.miinojibwe.org/event/first-language-speaker-meeting-ningaabiianook-16/
LOCATION:Online\, United States
END:VEVENT
END:VCALENDAR