BEGIN:VCALENDAR
VERSION:2.0
PRODID:-//Midwest Indigenous Immersion Network (MIIN) - ECPv6.15.20//NONSGML v1.0//EN
CALSCALE:GREGORIAN
METHOD:PUBLISH
X-WR-CALNAME:Midwest Indigenous Immersion Network (MIIN)
X-ORIGINAL-URL:https://www.miinojibwe.org
X-WR-CALDESC:Events for Midwest Indigenous Immersion Network (MIIN)
REFRESH-INTERVAL;VALUE=DURATION:PT1H
X-Robots-Tag:noindex
X-PUBLISHED-TTL:PT1H
BEGIN:VTIMEZONE
TZID:UTC
BEGIN:STANDARD
TZOFFSETFROM:+0000
TZOFFSETTO:+0000
TZNAME:UTC
DTSTART:20200101T000000
END:STANDARD
END:VTIMEZONE
BEGIN:VEVENT
DTSTART;TZID=UTC:20220426T170000
DTEND;TZID=UTC:20220426T180000
DTSTAMP:20260425T104500
CREATED:20220217T022858Z
LAST-MODIFIED:20220217T022900Z
UID:1929-1650992400-1650996000@www.miinojibwe.org
SUMMARY:K-8 Teachers Meeting
DESCRIPTION:Invite only. If interested in participating\, please contact us at speakingojibwemowin@gmail.com.
URL:https://www.miinojibwe.org/event/k-8-teachers-meeting-5/
END:VEVENT
BEGIN:VEVENT
DTSTART;TZID=UTC:20220425T153000
DTEND;TZID=UTC:20220425T163000
DTSTAMP:20260425T104500
CREATED:20220217T022739Z
LAST-MODIFIED:20220217T022741Z
UID:1926-1650900600-1650904200@www.miinojibwe.org
SUMMARY:Pre-K Teachers Meeting
DESCRIPTION:Invite only. If interested in participating\, please contact us at speakingojibwemowin@gmail.com.
URL:https://www.miinojibwe.org/event/pre-k-teachers-meeting-5/
END:VEVENT
BEGIN:VEVENT
DTSTART;TZID=UTC:20220425T100000
DTEND;TZID=UTC:20220425T110000
DTSTAMP:20260425T104500
CREATED:20211111T170832Z
LAST-MODIFIED:20211111T170832Z
UID:1546-1650880800-1650884400@www.miinojibwe.org
SUMMARY:MIIN Stakeholder's Meeting
DESCRIPTION:Invite only. If interested in participating\, please contact us at speakingojibwemowin@gmail.com.
URL:https://www.miinojibwe.org/event/miin-stakeholders-meeting-12/
CATEGORIES:MIIN Stakeholder's Meeting
END:VEVENT
BEGIN:VEVENT
DTSTART;TZID=UTC:20220422T100000
DTEND;TZID=UTC:20220422T110000
DTSTAMP:20260425T104500
CREATED:20211111T170741Z
LAST-MODIFIED:20211111T170745Z
UID:1543-1650621600-1650625200@www.miinojibwe.org
SUMMARY:MIIN Stakeholder's Meeting
DESCRIPTION:Invite only. If interested in participating\, please contact us at speakingojibwemowin@gmail.com.
URL:https://www.miinojibwe.org/event/miin-stakeholders-meeting-11/
CATEGORIES:MIIN Stakeholder's Meeting
END:VEVENT
BEGIN:VEVENT
DTSTART;TZID=UTC:20220422T090000
DTEND;TZID=UTC:20220422T113000
DTSTAMP:20260425T104500
CREATED:20211104T143432Z
LAST-MODIFIED:20220204T014435Z
UID:1305-1650618000-1650627000@www.miinojibwe.org
SUMMARY:Language on the Land
DESCRIPTION:Ninanda-gikendaanaawaa Ji-Anishinaabemowin “We are seeking to learn how to speak Anishinaabemowin” \nThis series of workshops and presentations on Anishinaabemowin is meant to supplement language learning and inform on certain methodologies. They can be attended for Professional Development or Personal Learning. This session will be hosted by Mooshkine Waasigek & a Guest Fluent Speaker.
URL:https://www.miinojibwe.org/event/language-on-the-land-mooshkine-waasigek-guest-fluent-speaker/
LOCATION:Online\, United States
END:VEVENT
BEGIN:VEVENT
DTSTART;TZID=UTC:20220412T170000
DTEND;TZID=UTC:20220412T180000
DTSTAMP:20260425T104500
CREATED:20220217T022651Z
LAST-MODIFIED:20220217T022654Z
UID:1923-1649782800-1649786400@www.miinojibwe.org
SUMMARY:K-8 Teachers Meeting
DESCRIPTION:Invite only. If interested in participating\, please contact us at speakingojibwemowin@gmail.com.
URL:https://www.miinojibwe.org/event/k-8-teachers-meeting-4/
END:VEVENT
BEGIN:VEVENT
DTSTART;TZID=UTC:20220411T153000
DTEND;TZID=UTC:20220411T163000
DTSTAMP:20260425T104500
CREATED:20220217T022607Z
LAST-MODIFIED:20220217T022610Z
UID:1920-1649691000-1649694600@www.miinojibwe.org
SUMMARY:Pre-K Teachers Meeting
DESCRIPTION:Invite only. If interested in participating\, please contact us at speakingojibwemowin@gmail.com.
URL:https://www.miinojibwe.org/event/pre-k-teachers-meeting-4/
END:VEVENT
BEGIN:VEVENT
DTSTART;TZID=UTC:20220329T170000
DTEND;TZID=UTC:20220329T180000
DTSTAMP:20260425T104500
CREATED:20220217T022506Z
LAST-MODIFIED:20220217T022508Z
UID:1917-1648573200-1648576800@www.miinojibwe.org
SUMMARY:K-8 Teachers Meeting
DESCRIPTION:Invite only. If interested in participating\, please contact us at speakingojibwemowin@gmail.com.
URL:https://www.miinojibwe.org/event/k-8-teachers-meeting-3/
END:VEVENT
BEGIN:VEVENT
DTSTART;TZID=UTC:20220328T153000
DTEND;TZID=UTC:20220328T163000
DTSTAMP:20260425T104500
CREATED:20220217T022410Z
LAST-MODIFIED:20220217T022413Z
UID:1914-1648481400-1648485000@www.miinojibwe.org
SUMMARY:Pre-K Teachers Meeting
DESCRIPTION:Invite only. If interested in participating\, please contact us at speakingojibwemowin@gmail.com.
URL:https://www.miinojibwe.org/event/pre-k-teachers-meeting-3/
END:VEVENT
BEGIN:VEVENT
DTSTART;TZID=UTC:20220328T100000
DTEND;TZID=UTC:20220328T110000
DTSTAMP:20260425T104500
CREATED:20211111T170626Z
LAST-MODIFIED:20211111T170643Z
UID:1539-1648461600-1648465200@www.miinojibwe.org
SUMMARY:MIIN Stakeholder's Meeting
DESCRIPTION:Invite only. If interested in participating\, please contact us at speakingojibwemowin@gmail.com.
URL:https://www.miinojibwe.org/event/miin-stakeholders-meeting-10/
CATEGORIES:MIIN Stakeholder's Meeting
END:VEVENT
BEGIN:VEVENT
DTSTART;TZID=UTC:20220325T100000
DTEND;TZID=UTC:20220325T110000
DTSTAMP:20260425T104500
CREATED:20211111T170542Z
LAST-MODIFIED:20211111T170544Z
UID:1536-1648202400-1648206000@www.miinojibwe.org
SUMMARY:MIIN Stakeholder's Meeting
DESCRIPTION:Invite only. If interested in participating\, please contact us at speakingojibwemowin@gmail.com.
URL:https://www.miinojibwe.org/event/miin-stakeholders-meeting-9/
CATEGORIES:MIIN Stakeholder's Meeting
END:VEVENT
BEGIN:VEVENT
DTSTART;TZID=UTC:20220325T090000
DTEND;TZID=UTC:20220325T113000
DTSTAMP:20260425T104500
CREATED:20211103T165714Z
LAST-MODIFIED:20220204T014557Z
UID:1285-1648198800-1648207800@www.miinojibwe.org
SUMMARY:Creating Vii Sentences & Using Negation
DESCRIPTION:Ninanda-gikendaanaawaa Ji-Anishinaabemowin “We are seeking to learn how to speak Anishinaabemowin” \nThis series of workshops and presentations on Anishinaabemowin is meant to supplement language learning and inform on certain methodologies. They can be attended for Professional Development or Personal Learning. This session will be hosted by Mooshkine Waasigek.
URL:https://www.miinojibwe.org/event/creating-vii-sentences-using-negation-debasekamigok/
LOCATION:Online\, United States
END:VEVENT
BEGIN:VEVENT
DTSTART;TZID=UTC:20220315T170000
DTEND;TZID=UTC:20220315T180000
DTSTAMP:20260425T104500
CREATED:20220217T022322Z
LAST-MODIFIED:20220217T022324Z
UID:1910-1647363600-1647367200@www.miinojibwe.org
SUMMARY:K-8 Teachers Meeting
DESCRIPTION:Invite only. If interested in participating\, please contact us at speakingojibwemowin@gmail.com.
URL:https://www.miinojibwe.org/event/k-8-teachers-meeting-2/
END:VEVENT
BEGIN:VEVENT
DTSTART;TZID=UTC:20220314T153000
DTEND;TZID=UTC:20220314T163000
DTSTAMP:20260425T104500
CREATED:20220217T022223Z
LAST-MODIFIED:20220217T022226Z
UID:1907-1647271800-1647275400@www.miinojibwe.org
SUMMARY:Pre-K Teachers Meeting
DESCRIPTION:Invite only. If interested in participating\, please contact us at speakingojibwemowin@gmail.com.
URL:https://www.miinojibwe.org/event/pre-k-teachers-meeting-2/
END:VEVENT
BEGIN:VEVENT
DTSTART;TZID=UTC:20220301T170000
DTEND;TZID=UTC:20220301T180000
DTSTAMP:20260425T104500
CREATED:20220217T021536Z
LAST-MODIFIED:20220217T021538Z
UID:1904-1646154000-1646157600@www.miinojibwe.org
SUMMARY:K-8 Teachers Meeting
DESCRIPTION:Invite only. If interested in participating\, please contact us at speakingojibwemowin@gmail.com.
URL:https://www.miinojibwe.org/event/k-8-teachers-meeting/
END:VEVENT
BEGIN:VEVENT
DTSTART;TZID=UTC:20220228T153000
DTEND;TZID=UTC:20220228T163000
DTSTAMP:20260425T104500
CREATED:20220217T021137Z
LAST-MODIFIED:20220217T021139Z
UID:1900-1646062200-1646065800@www.miinojibwe.org
SUMMARY:Pre-K Teachers Meeting
DESCRIPTION:Invite only. If interested in participating\, please contact us at speakingojibwemowin@gmail.com.
URL:https://www.miinojibwe.org/event/pre-k-teachers-meeting/
END:VEVENT
BEGIN:VEVENT
DTSTART;TZID=UTC:20220228T100000
DTEND;TZID=UTC:20220228T110000
DTSTAMP:20260425T104500
CREATED:20211111T170454Z
LAST-MODIFIED:20211111T170456Z
UID:1533-1646042400-1646046000@www.miinojibwe.org
SUMMARY:MIIN Stakeholder's Meeting
DESCRIPTION:Invite only. If interested in participating\, please contact us at speakingojibwemowin@gmail.com.
URL:https://www.miinojibwe.org/event/miin-stakeholders-meeting-8/
CATEGORIES:MIIN Stakeholder's Meeting
END:VEVENT
BEGIN:VEVENT
DTSTART;TZID=UTC:20220226T140000
DTEND;TZID=UTC:20220226T180000
DTSTAMP:20260425T104500
CREATED:20220204T024234Z
LAST-MODIFIED:20220204T024334Z
UID:1757-1645884000-1645898400@www.miinojibwe.org
SUMMARY:FDLTCC Ojibwe Language Symposium 2022 - Day 7
DESCRIPTION:Day 7 \nClick here to register \n2:00pm-3:30pm \n\nLanguage Development with Nenaaw Giizhig (Charlie Smith) https://minnstate.zoom.us/j/5066577771 Meeting ID: 506 657 7771\nImmersive Roundtable with Niib (David Aubid) https://css.zoom.us/j/89152671683+13126266799\n\n4:00pm-5:30pm Concurrent Presentations \n\nDeveloping a Regionally Informed Ojibwe Immersion Paradigm: Reshaping the Educational Experience of Immersion Learners Maajiigoneyaash (Dr. Gordon Jourdain)https://minnstate.zoom.us/j/5066577771 Meeting ID: 506 657 7771 OR\nMoccasin Game Baadwewegiizhik (Joseph Montano\, Sr.) TBD\n\n5:30pm-6:00pm \n\nClosing https://minnstate.zoom.us/j/5066577771  Meeting ID: 506 657 7771
URL:https://www.miinojibwe.org/event/fdltcc-ojibwe-language-symposium-2022-day-7/
END:VEVENT
BEGIN:VEVENT
DTSTART;TZID=UTC:20220225T100000
DTEND;TZID=UTC:20220225T110000
DTSTAMP:20260425T104500
CREATED:20211111T170358Z
LAST-MODIFIED:20211111T170402Z
UID:1530-1645783200-1645786800@www.miinojibwe.org
SUMMARY:MIIN Stakeholder's Meeting
DESCRIPTION:Invite only. If interested in participating\, please contact us at speakingojibwemowin@gmail.com.
URL:https://www.miinojibwe.org/event/miin-stakeholders-meeting-7/
CATEGORIES:MIIN Stakeholder's Meeting
END:VEVENT
BEGIN:VEVENT
DTSTART;TZID=UTC:20220225T090000
DTEND;TZID=UTC:20220225T113000
DTSTAMP:20260425T104500
CREATED:20211111T173108Z
LAST-MODIFIED:20220204T014000Z
UID:1568-1645779600-1645788600@www.miinojibwe.org
SUMMARY:Gikinoo'amaaged Bagijiganan - Teachings & Offerings
DESCRIPTION:Ninanda-gikendaanaawaa Ji-Anishinaabemowin “We are seeking to learn how to speak Anishinaabemowin” \nThis series of workshops and presentations on Anishinaabemowin is meant to supplement language learning and inform on certain methodologies. They can be attended for Professional Development or Personal Learning. This session will be presented by Waawaategiizhigook & a Guest Fluent Speaker.
URL:https://www.miinojibwe.org/event/gikinooamaaged-bagijiganan-teachings-offerings-waawaategiizhigook-guest-fluent-speaker/
LOCATION:Online\, United States
END:VEVENT
BEGIN:VEVENT
DTSTART;TZID=UTC:20220223T180000
DTEND;TZID=UTC:20220223T200000
DTSTAMP:20260425T104500
CREATED:20220204T023941Z
LAST-MODIFIED:20220204T024004Z
UID:1754-1645639200-1645646400@www.miinojibwe.org
SUMMARY:FDLTCC Ojibwe Language Symposium 2022 - Day 6
DESCRIPTION:Day 6 \nClick here to register \n6:00pm-8:00pm \n\nMaajiigoneyaash (Dr. Gordon Jourdain) First Language Speaker – Aadizookewin https://minnstate.zoom.us/j/5066577771 Meeting ID: 506 657 7771
URL:https://www.miinojibwe.org/event/fdltcc-ojibwe-language-symposium-2022-day-6/
END:VEVENT
BEGIN:VEVENT
DTSTART;TZID=UTC:20220221T173000
DTEND;TZID=UTC:20220221T190000
DTSTAMP:20260425T104500
CREATED:20211110T132957Z
LAST-MODIFIED:20211110T132959Z
UID:1489-1645464600-1645470000@www.miinojibwe.org
SUMMARY:MIIN Board of Directors Meeting
DESCRIPTION:
URL:https://www.miinojibwe.org/event/miin-board-of-directors-meeting/
CATEGORIES:MIIN Board of Directors Meeting
END:VEVENT
BEGIN:VEVENT
DTSTART;TZID=UTC:20220219T140000
DTEND;TZID=UTC:20220219T173000
DTSTAMP:20260425T104500
CREATED:20220204T023650Z
LAST-MODIFIED:20220204T023751Z
UID:1751-1645279200-1645291800@www.miinojibwe.org
SUMMARY:FDLTCC Ojibwe Language Symposium 2022 - Day 5
DESCRIPTION:Day 5 \nClick here to register \n2:00pm-3:30pm \n\nLanguage Development with Nenaaw Giizhig (Charlie Smith) https://minnstate.zoom.us/j/5066577771 Meeting ID: 506 657 7771\nImmersive Roundtable with Niib (David Aubid) https://css.zoom.us/j/89152671683 +13126266799\n\n4:00pm-5:30pm Concurrent Presentations \n\nAaniin akeyaa? A conversation with an Ojibwemowin super nerd – Migizi (Dr. Michael Sullivan) https://fdlrez.zoom.us/j/99035587200?pwd=VVJwT0RsVktJWHh6S2o4blg4RWo4UT09 Meeting ID: 990 3558 7200 Passcode: 390367 OR\nOjibwemowin Use on Land with Waabishkiimiigwan (Dr. Mary “Fong” Hermes) https://minnstate.zoom.us/j/5066577771 Meeting ID: 506 657 7771\n\n 
URL:https://www.miinojibwe.org/event/fdltcc-ojibwe-language-symposium-2022-day-5/
END:VEVENT
BEGIN:VEVENT
DTSTART;TZID=UTC:20220216T180000
DTEND;TZID=UTC:20220216T200000
DTSTAMP:20260425T104500
CREATED:20220204T023330Z
LAST-MODIFIED:20220204T023414Z
UID:1748-1645034400-1645041600@www.miinojibwe.org
SUMMARY:FDLTCC Ojibwe Language Symposium 2022 - Day 4
DESCRIPTION:Day 4 Click here to register 6:00pm-8:00pm \n\nMigizi (Dr. Michael Sullivan) Premiere 2nd Language Speaker – Aadizookewin https://minnstate.zoom.us/j/99423264235?pwd=bTBadW4xMjVwMUhTUU5mWjE2M2FCZz09 Meeting ID: 994 2326 4235 Passcode: 958894
URL:https://www.miinojibwe.org/event/fdltcc-ojibwe-language-symposium-2022-day-4/
END:VEVENT
BEGIN:VEVENT
DTSTART;TZID=UTC:20220212T140000
DTEND;TZID=UTC:20220212T173000
DTSTAMP:20260425T104500
CREATED:20220204T022946Z
LAST-MODIFIED:20220204T023108Z
UID:1742-1644674400-1644687000@www.miinojibwe.org
SUMMARY:FDLTCC Ojibwe Language Symposium 2022 - Day 3
DESCRIPTION:Day 3 Click here to register 2:00pm-3:30pm \n\nLanguage Development with Nenaaw Giizhig (Charlie Smith) https://minnstate.zoom.us/j/5066577771 Meeting ID: 506 657 7771\nImmersive Roundtable with Niib (David Aubid) https://css.zoom.us/j/89152671683 +13126266799\n\n4:00pm-5:30pm \n\nFrom Adults to Babies: Ojibwemotaadidaa Omaa Gidakiiminaang (OOG) withAdikoons (Hayley Olson) & Ziibiins (Alexandra Johnson) https://us02web.zoom.us/j/89829341875?pwd=OWtRYnVoc1hGT2g2TkxRSzNlc3lkUT09 Meeting ID: 898 2934 1875 Passcode: 706682
URL:https://www.miinojibwe.org/event/fdltcc-ojibwe-language-symposium-2022-day-3/
END:VEVENT
BEGIN:VEVENT
DTSTART;TZID=UTC:20220209T174500
DTEND;TZID=UTC:20220209T200000
DTSTAMP:20260425T104500
CREATED:20220204T022611Z
LAST-MODIFIED:20220204T022738Z
UID:1738-1644428700-1644436800@www.miinojibwe.org
SUMMARY:FDLTCC Ojibwe Language Symposium 2022 - Day 2
DESCRIPTION:Day 2 \nClick here to register  \n5:45-6:00pm \n\nWelcome with Roxanne https://css.zoom.us/j/89152671683 +13126266799\n\n6:00pm-8:00pm \n\nBwaananaabekwe (Mary Moose) Elder First Language Speaker – Dibaajimowin https://css.zoom.us/j/89152671683 +13126266799
URL:https://www.miinojibwe.org/event/fdltcc-ojibwe-language-symposium-2022-day-2/
END:VEVENT
BEGIN:VEVENT
DTSTART;TZID=UTC:20220205T130000
DTEND;TZID=UTC:20220205T173000
DTSTAMP:20260425T104500
CREATED:20220204T021616Z
LAST-MODIFIED:20220204T022321Z
UID:1725-1644066000-1644082200@www.miinojibwe.org
SUMMARY:FDLTCC Ojibwe Language Symposium 2022 - Day 1
DESCRIPTION:Day 1 \nClick here to register \n1:00pm-2:00pm \n\nOpening & Orientation with Bill & Roxanne https://minnstate.zoom.us/j/5066577771  Meeting ID: 506 657 7771\n\n2:00pm-3:30pm \n\nLanguage Development with Nenaaw Giizhig (Charlie Smith) https://minnstate.zoom.us/j/5066577771 Meeting ID: 506 657 7771\nImmersive Roundtable with Niib (David Aubid) https://css.zoom.us/j/89152671683 +13126266799\n\n4:00pm-5:30pm Concurrent Presentations \n\nMidwest Indigenous Immersion Network (MIIN) Goals\, Efforts\, and Language Resources with Gimiwan (Dustin Burnette) Executive Director of MIIN https://fdlrez.zoom.us/j/98871344422?pwd=WmxuZ0M4MFFYZmlDV1lTMDg0bS9zQT09 Meeting ID: 988 7134 OR\nMisaabekong gikinoo’amaadiwin with Aakwe aashiik (Doreen Skinaway)\, Gaagige Aanakwadikwe (Winonah Ojanen)\, Waabigwanikwe (Nashay Howes) & Binesiikwe (Edye Washington) https://minnstate.zoom.us/j/5066577771 Meeting ID: 506 657 7771\n\n 
URL:https://www.miinojibwe.org/event/fdltcc-ojibwe-language-symposium-2022-day-1/
END:VEVENT
BEGIN:VEVENT
DTSTART;TZID=UTC:20220124T100000
DTEND;TZID=UTC:20220124T110000
DTSTAMP:20260425T104500
CREATED:20211111T170303Z
LAST-MODIFIED:20211111T170305Z
UID:1527-1643018400-1643022000@www.miinojibwe.org
SUMMARY:MIIN Stakeholder's Meeting
DESCRIPTION:Invite only. If interested in participating\, please contact us at speakingojibwemowin@gmail.com.
URL:https://www.miinojibwe.org/event/miin-stakeholders-meeting-6/
CATEGORIES:MIIN Stakeholder's Meeting
END:VEVENT
BEGIN:VEVENT
DTSTART;TZID=UTC:20220121T100000
DTEND;TZID=UTC:20220121T110000
DTSTAMP:20260425T104500
CREATED:20211111T170210Z
LAST-MODIFIED:20211111T170212Z
UID:1524-1642759200-1642762800@www.miinojibwe.org
SUMMARY:MIIN Stakeholder's Meeting
DESCRIPTION:Invite only. If interested in participating\, please contact us at speakingojibwemowin@gmail.com.
URL:https://www.miinojibwe.org/event/miin-stakeholders-meeting-5/
CATEGORIES:MIIN Stakeholder's Meeting
END:VEVENT
BEGIN:VEVENT
DTSTART;TZID=UTC:20211220T100000
DTEND;TZID=UTC:20211220T110000
DTSTAMP:20260425T104500
CREATED:20211111T170105Z
LAST-MODIFIED:20211111T170107Z
UID:1521-1639994400-1639998000@www.miinojibwe.org
SUMMARY:MIIN Stakeholder's Meeting
DESCRIPTION:Invite only. If interested in participating\, please contact us at speakingojibwemowin@gmail.com.
URL:https://www.miinojibwe.org/event/miin-stakeholders-meeting-4/
CATEGORIES:MIIN Stakeholder's Meeting
END:VEVENT
END:VCALENDAR