BEGIN:VCALENDAR
VERSION:2.0
PRODID:-//Midwest Indigenous Immersion Network (MIIN) - ECPv6.15.20//NONSGML v1.0//EN
CALSCALE:GREGORIAN
METHOD:PUBLISH
X-ORIGINAL-URL:https://www.miinojibwe.org
X-WR-CALDESC:Events for Midwest Indigenous Immersion Network (MIIN)
REFRESH-INTERVAL;VALUE=DURATION:PT1H
X-Robots-Tag:noindex
X-PUBLISHED-TTL:PT1H
BEGIN:VTIMEZONE
TZID:America/Chicago
BEGIN:DAYLIGHT
TZOFFSETFROM:-0600
TZOFFSETTO:-0500
TZNAME:CDT
DTSTART:20220313T080000
END:DAYLIGHT
BEGIN:STANDARD
TZOFFSETFROM:-0500
TZOFFSETTO:-0600
TZNAME:CST
DTSTART:20221106T070000
END:STANDARD
BEGIN:DAYLIGHT
TZOFFSETFROM:-0600
TZOFFSETTO:-0500
TZNAME:CDT
DTSTART:20230312T080000
END:DAYLIGHT
BEGIN:STANDARD
TZOFFSETFROM:-0500
TZOFFSETTO:-0600
TZNAME:CST
DTSTART:20231105T070000
END:STANDARD
BEGIN:DAYLIGHT
TZOFFSETFROM:-0600
TZOFFSETTO:-0500
TZNAME:CDT
DTSTART:20240310T080000
END:DAYLIGHT
BEGIN:STANDARD
TZOFFSETFROM:-0500
TZOFFSETTO:-0600
TZNAME:CST
DTSTART:20241103T070000
END:STANDARD
END:VTIMEZONE
BEGIN:VTIMEZONE
TZID:UTC
BEGIN:STANDARD
TZOFFSETFROM:+0000
TZOFFSETTO:+0000
TZNAME:UTC
DTSTART:20220101T000000
END:STANDARD
END:VTIMEZONE
BEGIN:VTIMEZONE
TZID:America/Detroit
BEGIN:DAYLIGHT
TZOFFSETFROM:-0500
TZOFFSETTO:-0400
TZNAME:EDT
DTSTART:20220313T070000
END:DAYLIGHT
BEGIN:STANDARD
TZOFFSETFROM:-0400
TZOFFSETTO:-0500
TZNAME:EST
DTSTART:20221106T060000
END:STANDARD
BEGIN:DAYLIGHT
TZOFFSETFROM:-0500
TZOFFSETTO:-0400
TZNAME:EDT
DTSTART:20230312T070000
END:DAYLIGHT
BEGIN:STANDARD
TZOFFSETFROM:-0400
TZOFFSETTO:-0500
TZNAME:EST
DTSTART:20231105T060000
END:STANDARD
BEGIN:DAYLIGHT
TZOFFSETFROM:-0500
TZOFFSETTO:-0400
TZNAME:EDT
DTSTART:20240310T070000
END:DAYLIGHT
BEGIN:STANDARD
TZOFFSETFROM:-0400
TZOFFSETTO:-0500
TZNAME:EST
DTSTART:20241103T060000
END:STANDARD
END:VTIMEZONE
BEGIN:VEVENT
DTSTART;TZID=America/Chicago:20230814T173000
DTEND;TZID=America/Chicago:20230814T193000
DTSTAMP:20260423T013422
CREATED:20230601T215130Z
LAST-MODIFIED:20230601T215130Z
UID:2640-1692034200-1692041400@www.miinojibwe.org
SUMMARY:MIIN Board of Directors Quarterly Meeting
DESCRIPTION:
URL:https://www.miinojibwe.org/event/miin-board-of-directors-quarterly-meeting-5/
LOCATION:Online\, United States
END:VEVENT
BEGIN:VEVENT
DTSTART;TZID=America/Chicago:20230706T100000
DTEND;TZID=America/Chicago:20230706T110000
DTSTAMP:20260423T013422
CREATED:20230608T144529Z
LAST-MODIFIED:20230608T144529Z
UID:2651-1688637600-1688641200@www.miinojibwe.org
SUMMARY:MIIN Stakeholder's Meeting
DESCRIPTION:If you are interested in joining MIIN Stakeholder’s meeting\, please email Zhaangweshi@miinojibwe.org
URL:https://www.miinojibwe.org/event/miin-stakeholders-meeting-25/
LOCATION:Online\, United States
END:VEVENT
BEGIN:VEVENT
DTSTART;TZID=America/Chicago:20230601T100000
DTEND;TZID=America/Chicago:20230601T110000
DTSTAMP:20260423T013422
CREATED:20230509T213620Z
LAST-MODIFIED:20230509T213620Z
UID:2603-1685613600-1685617200@www.miinojibwe.org
SUMMARY:MIIN Stakeholder Meeting
DESCRIPTION:If you are interested in joining MIIN Stakeholder’s meeting\, please email Zhaangweshi@miinojibwe.org
URL:https://www.miinojibwe.org/event/miin-stakeholder-meeting-2/
LOCATION:Online\, United States
END:VEVENT
BEGIN:VEVENT
DTSTART;TZID=America/Chicago:20230525T160000
DTEND;TZID=America/Chicago:20230525T163000
DTSTAMP:20260423T013422
CREATED:20230509T212547Z
LAST-MODIFIED:20230509T212547Z
UID:2599-1685030400-1685032200@www.miinojibwe.org
SUMMARY:MIIN Early Childhood- 2nd Grade PLC
DESCRIPTION:If you are interested in joining a Professional Learning Community for immersion teachers\, please email Zhaangweshi@miinojibwe.org
URL:https://www.miinojibwe.org/event/miin-early-childhood-2nd-grade-plc/
LOCATION:Online\, United States
END:VEVENT
BEGIN:VEVENT
DTSTART;TZID=America/Chicago:20230525T150000
DTEND;TZID=America/Chicago:20230525T153000
DTSTAMP:20260423T013422
CREATED:20230509T213157Z
LAST-MODIFIED:20230509T213157Z
UID:2601-1685026800-1685028600@www.miinojibwe.org
SUMMARY:MIIN 3-8th Gr. PLC
DESCRIPTION:If you are interested in joining a Professional Learning Community for immersion teachers\, please email Zhaangweshi@miinojibwe.org
URL:https://www.miinojibwe.org/event/miin-3-8th-gr-plc-2/
LOCATION:Online\, United States
END:VEVENT
BEGIN:VEVENT
DTSTART;TZID=UTC:20230513T080000
DTEND;TZID=UTC:20230513T170000
DTSTAMP:20260423T013422
CREATED:20230119T152348Z
LAST-MODIFIED:20230119T152348Z
UID:2465-1683964800-1683997200@www.miinojibwe.org
SUMMARY:MIIN Professional Development
DESCRIPTION:
URL:https://www.miinojibwe.org/event/miin-professional-development/
END:VEVENT
BEGIN:VEVENT
DTSTART;TZID=America/Chicago:20230511T160000
DTEND;TZID=America/Chicago:20230511T163000
DTSTAMP:20260423T013422
CREATED:20230509T212314Z
LAST-MODIFIED:20230509T212314Z
UID:2597-1683820800-1683822600@www.miinojibwe.org
SUMMARY:MIIN Early Childhood- 2nd Gr. PLC
DESCRIPTION:If you are interested in joining a Professional Learning Community for immersion teachers\, please email Zhaangweshi@miinojibwe.org
URL:https://www.miinojibwe.org/event/miin-early-childhood-2nd-gr-plc/
LOCATION:Online\, United States
END:VEVENT
BEGIN:VEVENT
DTSTART;TZID=America/Chicago:20230511T150000
DTEND;TZID=America/Chicago:20230511T153000
DTSTAMP:20260423T013422
CREATED:20230509T212034Z
LAST-MODIFIED:20230509T212034Z
UID:2595-1683817200-1683819000@www.miinojibwe.org
SUMMARY:MIIN 3-8th Gr. PLC
DESCRIPTION:If you are interested in joining a Professional Learning Community for immersion teachers\, please email zhaangweshi@miinojibwe.org
URL:https://www.miinojibwe.org/event/miin-3-8th-gr-plc/
LOCATION:Online\, United States
END:VEVENT
BEGIN:VEVENT
DTSTART;TZID=America/Chicago:20230508T173000
DTEND;TZID=America/Chicago:20230508T193000
DTSTAMP:20260423T013422
CREATED:20221122T164406Z
LAST-MODIFIED:20221122T164406Z
UID:2354-1683567000-1683574200@www.miinojibwe.org
SUMMARY:MIIN Board of Directors Quarterly Meeting
DESCRIPTION:
URL:https://www.miinojibwe.org/event/miin-board-of-directors-quarterly-meeting-4/
LOCATION:Online\, United States
END:VEVENT
BEGIN:VEVENT
DTSTART;TZID=America/Chicago:20230505T140000
DTEND;TZID=America/Chicago:20230505T160000
DTSTAMP:20260423T013422
CREATED:20230502T183956Z
LAST-MODIFIED:20230502T183956Z
UID:2589-1683295200-1683302400@www.miinojibwe.org
SUMMARY:Anishinaabemowin Ando-gikendamowin Virtual Speaker Series
DESCRIPTION:
URL:https://www.miinojibwe.org/event/anishinaabemowin-ando-gikendamowin-virtual-speaker-series-2/
LOCATION:Online\, United States
END:VEVENT
BEGIN:VEVENT
DTSTART;TZID=America/Chicago:20230504T100000
DTEND;TZID=America/Chicago:20230504T110000
DTSTAMP:20260423T013422
CREATED:20221122T164147Z
LAST-MODIFIED:20221122T164147Z
UID:2352-1683194400-1683198000@www.miinojibwe.org
SUMMARY:MIIN Stakeholder Meeting
DESCRIPTION:If you are interested in joining MIIN Stakeholder’s meeting\, please email zhaangweshi@miinojibwe.org
URL:https://www.miinojibwe.org/event/miin-stakeholder-meeting/
LOCATION:Online\, United States
END:VEVENT
BEGIN:VEVENT
DTSTART;TZID=America/Chicago:20230427T160000
DTEND;TZID=America/Chicago:20230427T163000
DTSTAMP:20260423T013422
CREATED:20221122T163619Z
LAST-MODIFIED:20230120T160708Z
UID:2348-1682611200-1682613000@www.miinojibwe.org
SUMMARY:MIIN Early Childhood-2nd Gr. PLC
DESCRIPTION:If you are interested in joining a Professional Learning Community for immersion teachers\, please email zhaangweshi@miinojibwe.org
URL:https://www.miinojibwe.org/event/miin-1-2nd-gr-plc-10/
LOCATION:Online\, United States
END:VEVENT
BEGIN:VEVENT
DTSTART;TZID=America/Chicago:20230427T150000
DTEND;TZID=America/Chicago:20230427T153000
DTSTAMP:20260423T013422
CREATED:20221122T163457Z
LAST-MODIFIED:20230117T144842Z
UID:2346-1682607600-1682609400@www.miinojibwe.org
SUMMARY:MIIN 3-8th Gr. PLC
DESCRIPTION:If you are interested in joining a Professional Learning Community for immersion teachers\, please email zhaangweshi@miinojibwe.org
URL:https://www.miinojibwe.org/event/miin-3-4th-gr-plc-11/
LOCATION:Online\, United States
END:VEVENT
BEGIN:VEVENT
DTSTART;TZID=America/Chicago:20230421T090000
DTEND;TZID=America/Chicago:20230421T100000
DTSTAMP:20260423T013422
CREATED:20230417T175328Z
LAST-MODIFIED:20230417T175328Z
UID:2547-1682067600-1682071200@www.miinojibwe.org
SUMMARY:Anishinaabemowin Ando-gikendamowin Virtual Speakers Series: Jessica Atatise & Brittnee Hunter
DESCRIPTION:See MIIN Community Events for a more detailed flyer or visit wakingupojibwe.ca
URL:https://www.miinojibwe.org/event/anishinaabemowin-ando-gikendamowin-virtual-speakers-series-jessica-atatise-brittnee-hunter/
LOCATION:Online\, United States
END:VEVENT
BEGIN:VEVENT
DTSTART;TZID=America/Chicago:20230413T160000
DTEND;TZID=America/Chicago:20230413T163000
DTSTAMP:20260423T013422
CREATED:20221122T163031Z
LAST-MODIFIED:20230120T160750Z
UID:2340-1681401600-1681403400@www.miinojibwe.org
SUMMARY:MIIN Early Childhood- 2nd Gr. PLC
DESCRIPTION:If you are interested in joining a Professional Learning Community for immersion teachers\, please email zhaangweshi@miinojibwe.org
URL:https://www.miinojibwe.org/event/miin-1-2nd-gr-plc-9/
LOCATION:Online\, United States
END:VEVENT
BEGIN:VEVENT
DTSTART;TZID=America/Chicago:20230413T150000
DTEND;TZID=America/Chicago:20230413T153000
DTSTAMP:20260423T013422
CREATED:20221122T162858Z
LAST-MODIFIED:20230117T144919Z
UID:2338-1681398000-1681399800@www.miinojibwe.org
SUMMARY:MIIN 3-8th Gr. PLC
DESCRIPTION:If you are interested in joining a Professional Learning Community for immersion teachers\, please email zhaangweshi@miinojibwe.org
URL:https://www.miinojibwe.org/event/miin-3-4th-gr-plc-10/
LOCATION:Online\, United States
END:VEVENT
BEGIN:VEVENT
DTSTART;TZID=UTC:20230406T100000
DTEND;TZID=UTC:20230406T110000
DTSTAMP:20260423T013422
CREATED:20230216T171128Z
LAST-MODIFIED:20230216T171128Z
UID:2505-1680775200-1680778800@www.miinojibwe.org
SUMMARY:MIIN Stakeholders Meeting
DESCRIPTION:If you are interested in joining MIIN Stakeholder’s meeting\, please email zhaangweshi@miinojibwe.org
URL:https://www.miinojibwe.org/event/miin-stakeholders-meeting-24/
LOCATION:Online\, United States
END:VEVENT
BEGIN:VEVENT
DTSTART;TZID=America/Detroit:20230331T080000
DTEND;TZID=America/Detroit:20230401T170000
DTSTAMP:20260423T013422
CREATED:20230106T164336Z
LAST-MODIFIED:20230106T164336Z
UID:2433-1680249600-1680368400@www.miinojibwe.org
SUMMARY:29th Annual Anishinaabemowin-Teg Inc.: "Naadmaaddaa Ji Zhaabwitoying Gidinowewinaa"
DESCRIPTION:
URL:https://www.miinojibwe.org/event/29th-annual-anishinaabemowin-teg-inc-naadmaaddaa-ji-zhaabwitoying-gidinowewinaa/
LOCATION:Kewadin Hotel & Conference Center\, 2186 Shunk Rd\, Sault Ste. Marie\, MI\, 49783\, United States
END:VEVENT
BEGIN:VEVENT
DTSTART;TZID=America/Chicago:20230330T160000
DTEND;TZID=America/Chicago:20230330T163000
DTSTAMP:20260423T013422
CREATED:20221122T162338Z
LAST-MODIFIED:20230120T160839Z
UID:2332-1680192000-1680193800@www.miinojibwe.org
SUMMARY:MIIN Early Childhood- 2nd Gr. PLC
DESCRIPTION:Meeting start time is 2:15 pm. If you are interested in joining a Professional Learning Community for immersion teachers\, please email zhaangweshi@miinojibwe.org
URL:https://www.miinojibwe.org/event/miin-1-2nd-gr-plc-8/
LOCATION:Online\, United States
END:VEVENT
BEGIN:VEVENT
DTSTART;TZID=America/Chicago:20230330T150000
DTEND;TZID=America/Chicago:20230330T153000
DTSTAMP:20260423T013422
CREATED:20221122T162215Z
LAST-MODIFIED:20230117T144947Z
UID:2330-1680188400-1680190200@www.miinojibwe.org
SUMMARY:MIIN 3-8th Gr. PLC
DESCRIPTION:If you are interested in joining a Professional Learning Community for immersion teachers\, please email zhaangweshi@miinojibwe.org
URL:https://www.miinojibwe.org/event/miin-3-4th-gr-plc-9/
LOCATION:Online\, United States
END:VEVENT
BEGIN:VEVENT
DTSTART;TZID=UTC:20230317T080000
DTEND;TZID=UTC:20230318T170000
DTSTAMP:20260423T013422
CREATED:20230120T174735Z
LAST-MODIFIED:20230120T174735Z
UID:2478-1679040000-1679158800@www.miinojibwe.org
SUMMARY:Wiingashki Kaadenge Maawnjidmi: Bkejwanong Language Conference
DESCRIPTION:
URL:https://www.miinojibwe.org/event/wiingashki-kaadenge-maawnjidmi-bkejwanong-language-conference/
LOCATION:Bkejwanong Walpole Island First Nation\, Ontario\, N8A4K9\, Canada
END:VEVENT
BEGIN:VEVENT
DTSTART;TZID=America/Chicago:20230316T160000
DTEND;TZID=America/Chicago:20230316T163000
DTSTAMP:20260423T013422
CREATED:20221122T161827Z
LAST-MODIFIED:20230120T160923Z
UID:2323-1678982400-1678984200@www.miinojibwe.org
SUMMARY:MIIN Early Childhood- 2nd Gr. PLC
DESCRIPTION:If you are interested in joining a Professional Learning Community for immersion teachers\, please email zhaangweshi@miinojibwe.org
URL:https://www.miinojibwe.org/event/miin-1-2nd-gr-plc-7/
LOCATION:Online\, United States
END:VEVENT
BEGIN:VEVENT
DTSTART;TZID=America/Chicago:20230316T150000
DTEND;TZID=America/Chicago:20230316T153000
DTSTAMP:20260423T013422
CREATED:20221122T161153Z
LAST-MODIFIED:20230117T145216Z
UID:2313-1678978800-1678980600@www.miinojibwe.org
SUMMARY:MIIN 3-8th Gr. PLC
DESCRIPTION:If you are interested in joining a Professional Learning Community for immersion teachers\, please email zhaangweshi@miinojibwe.org
URL:https://www.miinojibwe.org/event/miin-3-4th-gr-plc-7/
LOCATION:Online\, United States
END:VEVENT
BEGIN:VEVENT
DTSTART;TZID=America/Chicago:20230309T110000
DTEND;TZID=America/Chicago:20230309T130000
DTSTAMP:20260423T013423
CREATED:20230308T185722Z
LAST-MODIFIED:20230308T185722Z
UID:2526-1678359600-1678366800@www.miinojibwe.org
SUMMARY:Anishinaabemowin Ando-gikendamowin Virtual Speaker Series: Iskigamizigan
DESCRIPTION:
URL:https://www.miinojibwe.org/event/anishinaabemowin-ando-gikendamowin-virtual-speaker-series-iskigamizigan/
LOCATION:Online\, United States
END:VEVENT
BEGIN:VEVENT
DTSTART;TZID=America/Chicago:20230302T160000
DTEND;TZID=America/Chicago:20230302T163000
DTSTAMP:20260423T013423
CREATED:20221122T160634Z
LAST-MODIFIED:20230120T161211Z
UID:2307-1677772800-1677774600@www.miinojibwe.org
SUMMARY:MIIN Early Childhood-2nd Gr. PLC
DESCRIPTION:If you are interested in joining a Professional Learning Community for immersion teachers\, please email zhaangweshi@miinojibwe.org
URL:https://www.miinojibwe.org/event/miin-1-2nd-gr-plc-5/
LOCATION:Online\, United States
END:VEVENT
BEGIN:VEVENT
DTSTART;TZID=America/Chicago:20230302T150000
DTEND;TZID=America/Chicago:20230302T153000
DTSTAMP:20260423T013423
CREATED:20221122T160408Z
LAST-MODIFIED:20230117T145245Z
UID:2304-1677769200-1677771000@www.miinojibwe.org
SUMMARY:MIIN 3-8th Gr. PLC
DESCRIPTION:If you are interested in joining a Professional Learning Community for immersion teachers\, please email zhaangweshi@miinojibwe.org
URL:https://www.miinojibwe.org/event/miin-3-4th-gr-plc-6/
LOCATION:Online\, United States
END:VEVENT
BEGIN:VEVENT
DTSTART;TZID=America/Chicago:20230302T100000
DTEND;TZID=America/Chicago:20230302T110000
DTSTAMP:20260423T013423
CREATED:20221122T155300Z
LAST-MODIFIED:20221122T155300Z
UID:2300-1677751200-1677754800@www.miinojibwe.org
SUMMARY:MIIN Stakeholders Meeting
DESCRIPTION:If you are interested in joining MIIN Stakeholder’s meeting\, please email zhaangweshi@miinojibwe.org
URL:https://www.miinojibwe.org/event/miin-stakeholders-meeting-23/
LOCATION:Online\, United States
END:VEVENT
BEGIN:VEVENT
DTSTART;TZID=UTC:20230218T170000
DTEND;TZID=UTC:20230218T220000
DTSTAMP:20260423T013423
CREATED:20230216T172216Z
LAST-MODIFIED:20230216T172316Z
UID:2510-1676739600-1676757600@www.miinojibwe.org
SUMMARY:Minokonayedaa Chi-aadizookewaad
DESCRIPTION:
URL:https://www.miinojibwe.org/event/minokonayedaa-chi-aadizookewaad/
LOCATION:Black Bear Casino & Resort Convention Center\, 1785 MN-210\, Carlton\, MN\, 55718\, United States
ORGANIZER;CN="Fond du Lac Language Program":MAILTO:CharlesSmith@fdlrez.com
END:VEVENT
BEGIN:VEVENT
DTSTART;TZID=America/Chicago:20230216T160000
DTEND;TZID=America/Chicago:20230216T163000
DTSTAMP:20260423T013423
CREATED:20221122T151740Z
LAST-MODIFIED:20230120T161257Z
UID:2296-1676563200-1676565000@www.miinojibwe.org
SUMMARY:MIIN Early Childhood- 2nd Gr. PLC
DESCRIPTION:If you are interested in joining a Professional Learning Community for immersion teachers\, please email zhaangweshi@miinojibwe.org
URL:https://www.miinojibwe.org/event/miin-1-2nd-gr-plc-4/
LOCATION:Online\, United States
END:VEVENT
BEGIN:VEVENT
DTSTART;TZID=America/Chicago:20230216T150000
DTEND;TZID=America/Chicago:20230216T153000
DTSTAMP:20260423T013423
CREATED:20221122T151606Z
LAST-MODIFIED:20230117T145322Z
UID:2294-1676559600-1676561400@www.miinojibwe.org
SUMMARY:MIIN 3-8th Gr. PLC
DESCRIPTION:If you are interested in joining a Professional Learning Community for immersion teachers\, please email zhaangweshi@miinojibwe.org
URL:https://www.miinojibwe.org/event/miin-3-4th-gr-plc-5/
LOCATION:Online\, United States
END:VEVENT
END:VCALENDAR